{"text_format":"1","workbook":"xlsx","n_sheets":23,"sheets":["Dichiarazione","FISSA DEPFOGNA_RES","FISSA_DEPFOGNA_NRES","DEP","FISSA DEPFOGNA_NDOM","FISSA ACQUEDOTTO_RES","FISSA ACQUEDOTTO_NRES","FISSA ACQUEDOTTO_NDOM","dati","DOM RES","DOM RES_singolo","TAR_ACQ_DOM_RES","DOM NON RES","TAR_ACQ_DOM_NON_RES","TAR_ACQ_NON_DOM","FOG","TAR_FOG","DOM NON RES_singolo","NON DOM","NON DOM_singolo","FOG_singolo","DEP_singolo","TAR_DEP"],"not_rendered":{"charts":0,"images":1,"macros":0,"external_links":0,"defined_names":0,"comments":1,"pivot_tables":0},"unopened":[],"bounds":{"document_bytes":16777216,"sheet_cells":100000,"rows_first":2000,"rows_last":500,"rows_between":2000,"halvings":0,"cell_chars":16384,"cell_head_chars":4096},"cells_cut":0,"cells_raw":0,"read":"whole","date_system":"1900"}

{"sheet":"Dichiarazione","index":0,"n_rows":50,"n_cols":27,"rows_kept":50,"cut":false,"hidden":false,"merged":[[40,1,40,4],[42,1,42,4],[34,6,34,9],[41,6,41,8],[36,6,36,9],[38,6,38,9],[40,6,40,9],[42,6,42,8],[6,16,7,17],[6,24,6,26],[34,1,34,4],[38,1,38,4],[12,24,12,26],[7,1,9,2],[26,1,26,2],[14,11,28,11],[6,13,6,15],[24,1,24,2],[27,6,28,8],[25,6,26,8],[43,6,43,8],[33,6,33,8],[35,6,35,8],[37,6,37,8],[39,6,39,8],[5,1,5,2],[15,7,16,7],[5,6,5,8],[7,6,8,8],[22,6,22,8],[19,6,21,8],[13,1,13,2],[22,1,22,2]]}
[]
[]
[]
[]
[]
[null,"ANNO 2023",null,null,null,null,null,null,null,null,null,"Le celle di questo colore possono essere modificate"]
[null,null,null,null,null,null,null,null,null,null,null,null,null,"CONTEGGIO DELLE UNITA' IMMOBILIARI PER TIPO TARIFFA",null,null,"CALCOLO NUMERO COMPONENTI TOTALI PER LE UNITA' CON STESSE CARATTERISTICHE",null,null,null,null,null,null,null,"QUOTA FISSA ACQUEDOTTO"]
[null,"DICHIARAZIONE DELLA COMPOSIZIONE DEI\nNUCLEI FAMILIARI PRESENTI NELLE\nUNITA' IMMOBILIARI DEL CONDOMINIO",null,null,null,null,"Inserisci qui i dati della\ntua unità immobiliare",null,null,null,null,null,"TARIFFA ACQUEDOTTO DA APPLICARE","CONTEGGIO UNITA' DOMESTICO RESIDENTI ","CONTEGGIO UNITA' DOMESTICO NON RESIDENTI ","CONTEGGIO UNITA' DOMESTICO NON DOMESTICHE",null,null,null,null,null,null,null,null,"DOMESTICO RESIDENTI ","DOMESTICO NON RESIDENTI ","NON DOMESTICHE"]
[null,null,null,null,null,null,null,null,null,null,null,null,null,null,null,null,null,null,null,null,null,null,null,null,{"$f":"'FISSA ACQUEDOTTO_RES'!J42","v":0},{"$f":"'FISSA ACQUEDOTTO_NRES'!J42","v":0},{"$f":"'FISSA ACQUEDOTTO_NDOM'!J42","v":0}]
[null,null,null,null,null,null,null,"Seleziona dall'elenco il tuo\ntipo di utenza",null,null,null,null,null,null,null,null,null,null,null,null,null,null,null,"singola unità",{"$f":"IFERROR(ROUND((Y9/R23)*T23,2),0)","v":0},{"$f":"IFERROR(ROUND(Z9/(O24+O28+O29),2),0)","v":0},{"$f":"IFERROR(ROUND(AA9/P26,2),0)","v":0}]
[null,"ATO di appartenenza",null,null,null,null,null,null,null,null,null,"PASSO 1: Inserire ATO DI APPARTENZA DEL PUNTO DI FORNITURA"]
[null,"Consumo annuo (m3)",null,null,null,null,null,{"$f":"IF(AND(H11=\"DOMESTICO NON RESIDENTE\",C24=\"\"),\"Non risultano utenze di questo tipo\",IF(AND(H11=\"NON DOMESTICO\",C26=\"\"),\"Non risultano utenze di questo tipo\",\"\"))","v":""},null,null,null,"PASSO 2: Inserire CONSUMO ANNUO DEL CONTATORE CONDOMINIALE in Metri Cubi"]
[null,"Totale unità immobiliari servite dal contatore",{"$f":"C15+C16+C17+C18+C19+C20+C21+C22+C24+C26+C28+C29","v":0},null,null,null,null,"adesso:",null,null,null,null,null,null,null,null,"COMPONENTI RESIDENTI",null,null,null,null,null,null,null,"QUOTA FISSA FOGNATURA E/O DEPURAZIONE"]
[null,"UTENZE DOMESTICHE RESIDENTI:",null,null,null,null,null,"Seleziona dall'elenco il numero dei componenti della tua unità immobiliare",null,null,null,null,null,null,null,null,null,null,null,null,null,null,null,null,"DOMESTICO RESIDENTI ","DOMESTICO NON RESIDENTI ","NON DOMESTICHE"]
[null,"Numero unità immobiliari con 1 residente",null,{"$f":"IF(ISNUMBER(C15),1,\"\")","v":""},{"$f":"IF(AND(C15>0,D15=$H$15),\"X\",\"\")","v":""},null,null,null,null,null,null,"PASSO 3: Inserire il numero delle unità immbiliari ","tariffa DOM. RESIDENTE",{"$f":"C15","v":0},null,null,1,{"$f":"N15*Q15","v":0},null,{"$f":"IF(E15=\"X\",D15,\"\")","v":""},null,null,null,null,{"$f":"'FISSA DEPFOGNA_RES'!J42","v":0},{"$f":"FISSA_DEPFOGNA_NRES!J42","v":0},{"$f":"'FISSA DEPFOGNA_NDOM'!J42","v":0}]
[null,"Numero unità immobiliari con 2 residenti",null,{"$f":"IF(ISNUMBER(C16),2,\"\")","v":""},"",null,null,{"$f":"IFERROR(IF(H15=\"\",\"\",VLOOKUP(H15,$D$15:$D$22,1,FALSE)),dati!G1)","v":""},null,null,null,null,"tariffa DOM. RESIDENTE",{"$f":"C16","v":0},null,null,2,0,null,"",null,null,null,"singola unità",{"$f":"IFERROR(ROUND((Y15/R23)*T23,2),0)","v":0},{"$f":"IFERROR(ROUND(Z15/(O24+O28+O29),2),0)","v":0},{"$f":"IFERROR(ROUND(AA15/P26,2),0)","v":0}]
[null,"Numero unità immobiliari con 3 residenti",null,{"$f":"IF(ISNUMBER(C17),3,\"\")","v":""},"",null,null,null,null,null,null,null,"tariffa DOM. RESIDENTE",0,null,null,3,0,null,""]
[null,"Numero unità immobiliari con 4 residenti",null,{"$f":"IF(ISNUMBER(C18),4,\"\")","v":""},"",null,null,null,null,null,null,null,"tariffa DOM. RESIDENTE",0,null,null,4,0,null,""]
[null,"Numero unità immobiliari con 5 residenti",null,{"$f":"IF(ISNUMBER(C19),5,\"\")","v":""},"",null,null,null,null,null,null,null,"tariffa DOM. RESIDENTE",0,null,null,5,0,null,""]
[null,"Numero unità immobiliari con 6 residenti",null,{"$f":"IF(ISNUMBER(C20),6,\"\")","v":""},"",null,"STIMA DEL CONSUMO ANNUO\nDELLA TUA UTENZA (m3)",null,null,null,null,null,"tariffa DOM. RESIDENTE",0,null,null,6,0,null,""]
[null,"Numeronità immobiliari con 7 residenti",null,{"$f":"IF(ISNUMBER(C21),7,\"\")","v":""},"",null,null,null,null,null,null,null,"tariffa DOM. RESIDENTE",0,null,null,7,0,null,""]
[null,"Numero unità immobiliari con 8 residenti e oltre",null,{"$f":"IF(ISNUMBER(C22),\"8 e oltre\",\"\")","v":""},"",null,null,null,null,null,null,null,"tariffa DOM. RESIDENTE",0,null,null,8,0,null,"",null,null,"consumo unità immobiliare"]
[null,"UTENZE DOMESTICHE NON RESIDENTI:",null,null,null,null,{"$f":"VLOOKUP(H11,$V$23:$W$25,2,FALSE)","v":{"$error":"#N/A"}},null,null,null,null,null,null,null,null,null,null,{"$f":"SUM(R15:R22)","v":0},{"$f":"ROUND(N33/R23,0)","v":{"$error":"#DIV/0!"}},{"$f":"SUM(T15:T22)","v":0},null,"DOMESTICO RESIDENTE",{"$f":"S23*T23","v":{"$error":"#DIV/0!"}}]
[null,"Numero unità immobiliari ad uso domestico non residenti",null,null,null,null,null,null,null,null,null,null,"tariffa DOM. NON RESIDENTE",null,{"$f":"C24","v":0},null,null,null,"consumo pro capite","num componenti",null,"DOMESTICO NON RESIDENTE",{"$f":"ROUND(O33/(O24+O28+O29),0)","v":{"$error":"#DIV/0!"}}]
[null,"UTENZE NON DOMESTICHE:",null,null,null,null,null,null,null,null,null,null,null,null,null,null,null,null,null,null,null,"NON DOMESTICO",{"$f":"P33/P26","v":{"$error":"#DIV/0!"}}]
[null,"Numero unità immobiliari occupate ad uso non domestico",null,null,null,null,"STIMA DELL'IMPORTO TOTALE ANNUO\nDELLA TUA UTENZA (*)",null,null,null,null,null,"tariffa NON DOMESTICO",null,null,{"$f":"C26","v":0}]
[null,"UTENZE NON DICHIARATE/NON OCCUPATE:"]
[null,"Numero unità immobiliari non dichiarate",null,null,null,null,{"$f":"J44","v":{"$error":"#N/A"}},null,null,null,null,null,"tariffa DOM. NON RESIDENTE",null,{"$f":"C28","v":0}]
[null,"Numero unità immobiliari non occupate (vuote)",null,null,null,null,null,null,null,null,null,null,"tariffa DOM. NON RESIDENTE",null,{"$f":"C29","v":0}]
[null,null,{"$f":"SUM(B15:C29)","v":0},null,null,null,null,null,null,null,null,null,null,{"$f":"SUM(N11:N29)","v":0},{"$f":"SUM(O11:O29)","v":0},{"$f":"SUM(P15:P29)","v":0}]
[]
[]
[null,null,null,null,null,null,null,null,null,null,null,null,"CALCOLO DI ATTRIBUZIONE DEI CONSUMI ALLE SINGOLE UNITÀ IMMOBILIARI",{"$f":"ROUND(C12/C13*N30,0)","v":{"$error":"#DIV/0!"}},{"$f":"ROUND(C12/C13*O30,0)","v":{"$error":"#DIV/0!"}},{"$f":"C12-N33-O33","v":{"$error":"#DIV/0!"}}]
[null,"TOTALE CONSUMI E IMPORTI ANNUI DEL CONDOMINIO","Consumo annuo\n(m3)",null,"Importo annuo\n(euro)",null,"(*) DETTAGLIO IMPORTI UTENZA",null,null,"Importo annuo\n(euro)"]
[null,"ACQUEDOTTO",null,null,null,null,"ACQUEDOTTO"]
[null,"Quota acquedotto domestico residente",{"$f":"N33","v":{"$error":"#DIV/0!"}},null,{"$f":"IFERROR('DOM RES'!J14,0)","v":0},null,{"$f":"\"Quota acquedotto\"&\" \"&LOWER(H11)","v":"Quota acquedotto "},null,null,{"$f":"IF(H11=\"DOMESTICO RESIDENTE\",'DOM RES_singolo'!J14,IF(Dichiarazione!H11=\"DOMESTICO NON RESIDENTE\",'DOM NON RES_singolo'!J14,IF(Dichiarazione!H11=\"NON DOMESTICO\",'NON DOM_singolo'!J14)))","v":false}]
[null,"Quota acquedotto domestico non residente",{"$f":"O33","v":{"$error":"#DIV/0!"}},null,{"$f":"IFERROR('DOM NON RES'!J14,0)","v":0},null,"FOGNATURA"]
[null,"Quota acquedotto non domestico",{"$f":"P33","v":{"$error":"#DIV/0!"}},null,{"$f":"IFERROR('NON DOM'!J14,0)","v":0},null,"Quota fognatura",null,null,{"$f":"FOG_singolo!J14","v":{"$error":"#N/A"}}]
[null,"FOGNATURA",null,null,null,null,"DEPURAZIONE"]
[null,"Quota fognatura",null,null,{"$f":"FOG!J14","v":0},null,"Quota depurazione",null,null,{"$f":"DEP_singolo!J14","v":{"$error":"#N/A"}}]
[null,"DEPURAZIONE",null,null,null,null,"QUOTA FISSA"]
[null,"Quota depurazione",null,null,{"$f":"DEP!J14","v":0},null,{"$f":"\"Quota fissa acquedotto\"&\" \"&LOWER(H11)","v":"Quota fissa acquedotto "},null,null,{"$f":"IF(H11=\"DOMESTICO RESIDENTE\",Y10,IF(H11=\"DOMESTICO NON RESIDENTE\",Z10,IF(H11=\"NON DOMESTICO\",AA10,\"\")))","v":""}]
[null,"QUOTA FISSA",null,null,null,null,{"$f":"\"Quota fissa fognatura e/o depurazione\"&\" \"&LOWER(H11)","v":"Quota fissa fognatura e/o depurazione "},null,null,{"$f":"IF(H11=\"DOMESTICO RESIDENTE\",Y16,IF(H11=\"DOMESTICO NON RESIDENTE\",Z16,IF(H11=\"NON DOMESTICO\",AA16,\"\")))","v":""}]
[null,"Quota fissa acquedotto domestico residente",null,null,{"$f":"IFERROR('FISSA ACQUEDOTTO_RES'!J42,0)","v":0},null,"TOTALE",null,null,{"$f":"J36+J38+J40+J42+J43","v":{"$error":"#N/A"}}]
[null,"Quota fissa acquedotto domestico non residente",null,null,{"$f":"IFERROR('FISSA ACQUEDOTTO_NRES'!J42,0)","v":0}]
[null,"Quota fissa acquedotto non domestico",null,null,{"$f":"IFERROR('FISSA ACQUEDOTTO_NDOM'!J42,0)","v":0}]
[null,"Quota fissa fognatura e/o depurazione domestico residente",null,null,{"$f":"IFERROR('FISSA DEPFOGNA_RES'!J42,0)","v":0}]
[null,"Quota fissa fognatura e/o depurazione domestico non residente",null,null,{"$f":"IFERROR(FISSA_DEPFOGNA_NRES!J42,0)","v":0}]
[null,"Quota fissa fognatura e/o depurazione non domestico",null,null,{"$f":"IFERROR('FISSA DEPFOGNA_NDOM'!J42,0)","v":0}]
[null,"TOTALE",{"$f":"SUM(C36:C38)","v":{"$error":"#DIV/0!"}},null,{"$f":"SUM(E36:E38,E40,E42,E44:E49)","v":0}]

{"sheet":"FISSA DEPFOGNA_RES","index":1,"n_rows":42,"n_cols":10,"rows_kept":42,"cut":false,"hidden":true,"merged":[]}
["cdi_tariffa","descrizione tariffa","data variazione tariffaria"]
[10016771,"MULTIPLO QUOTA FISSA DEP/FOGNA DOM RESIDENTE ATO MO","2023-01-01"]
[]
[]
[]
[]
["scaglione","consumo scaglione","importo per scaglione"]
[1,999999999,4.3084519999999999]
[]
[]
[]
[]
[]
[]
[]
[]
[]
[]
[]
[]
["codi_tariffa","descrizione tariffa","data variazione tariffaria"]
[10018718,"MULTIPLO QUOTA FISSA DEP/FOGNA DOM RESIDENTE ATO MN","2023-01-01"]
[]
[]
[]
[]
["scaglione","consumo scaglione","importo per scaglione"]
[1,999999999,18.619225]
[]
[]
[]
[]
[]
[]
[null,null,null,"numero componenti",null,"numero giorni"]
[null,null,null,1,null,365,null,"consumo",{"$f":"Dichiarazione!N33","v":{"$error":"#DIV/0!"}}]
[null,null,null,null,null,{"$f":"DATE(Dichiarazione!C6,12,31)-DATE(Dichiarazione!C6,1,1)+1","v":366},null,"ATO",{"$f":"IF(Dichiarazione!C11=\"MO\",1,2)","v":2}]
[null,null,null,null,null,null,null,"Tariffa"]
[]
[null,"Numero Unità",null,null,"Articolazione per numero componenti",null,null,null,"Tariffa €/anno"]
[]
[null,{"$f":"SUM(Dichiarazione!C15:C22)","v":0},null,null,null,999999999,{"$f":"IF(I36-F42>=0,F42,I36)","v":{"$error":"#DIV/0!"}},null,{"$f":"IF(I37=1,C8,C28)","v":18.619225},{"$f":"ROUND(B42*I42,2)","v":0}]

{"sheet":"FISSA_DEPFOGNA_NRES","index":2,"n_rows":42,"n_cols":10,"rows_kept":42,"cut":false,"hidden":true,"merged":[]}
["cdi_tariffa","descrizione tariffa","data variazione tariffaria"]
[10016774,"MULTIPLO QUOTA FISSA DEP/FOGNA DOM NON RESIDENTE ATO MO","2023-01-01"]
[]
[]
[]
[]
["scaglione","consumo scaglione","importo per scaglione"]
[1,999999999,18.332464000000002]
[]
[]
[]
[]
[]
[]
[]
[]
[]
[]
[]
[]
["codi_tariffa","descrizione tariffa","data variazione tariffaria"]
[10018715,"MULTIPLO QUOTA FISSA DEP/FOGNA DOM NON RESIDENTE ATO MN","2023-01-01"]
[]
[]
[]
[]
["scaglione","consumo scaglione","importo per scaglione"]
[1,999999999,18.619225]
[]
[]
[]
[]
[]
[]
[null,null,null,"numero componenti",null,"numero giorni"]
[null,null,null,1,null,365,null,"consumo",{"$f":"Dichiarazione!O33","v":{"$error":"#DIV/0!"}}]
[null,null,null,null,null,{"$f":"DATE(Dichiarazione!C6,12,31)-DATE(Dichiarazione!C6,1,1)+1","v":366},null,"ATO",{"$f":"IF(Dichiarazione!C11=\"MO\",1,2)","v":2}]
[null,null,null,null,null,null,null,"Tariffa"]
[]
[null,"Numero Unità",null,null,"Articolazione per numero componenti",null,null,null,"Tariffa €/mc"]
[]
[null,{"$f":"Dichiarazione!C24+SUM(Dichiarazione!C28:C29)","v":0},null,null,null,999999999,{"$f":"IF(I36-F42>=0,F42,I36)","v":{"$error":"#DIV/0!"}},null,{"$f":"IF(I37=1,C8,C28)","v":18.619225},{"$f":"ROUND(B42*I42,2)","v":0}]

{"sheet":"DEP","index":3,"n_rows":26,"n_cols":10,"rows_kept":26,"cut":false,"hidden":true,"merged":[]}
[]
[null,null,null,"numero componenti",null,"numero giorni"]
[null,null,null,1,null,365,null,"consumo",{"$f":"Dichiarazione!C12","v":0}]
[null,null,null,null,null,{"$f":"DATE(Dichiarazione!C6,12,31)-DATE(Dichiarazione!C6,1,1)+1","v":366},null,"ATO",{"$f":"IF(Dichiarazione!C11=\"MO\",1,2)","v":2}]
[null,null,null,null,null,null,null,"Tariffa","TAR_DEP"]
[]
[null,"Articolazione base",null,null,"Articolazione per numero componenti",null,null,null,"Tariffa €/mc"]
[]
[1,0,{"$f":"IF($I$4=1,INDIRECT($I$5&\"!B8\"),INDIRECT($I$5&\"!B28\"))","v":999999999},null,{"$f":"IF(C9=MAX($C$9:$C$12),MAX(C9:C12),ROUND(C9*$D$3*LOOKUP($D$3,$A$19:$B$26,$B$19:$B$26)/$F$4*$F$3,0))","v":999999999},{"$f":"E9","v":999999999},{"$f":"IF($I$3-F9>0,F9,IF($I$3-F9<=0,$I$3))","v":0},null,{"$f":"IF($I$4=1,INDIRECT($I$5&\"!C8\"),INDIRECT($I$5&\"!C28\"))","v":0.75222599999999995},{"$f":"ROUND(G9*I9,2)","v":0}]
[2,{"$f":"IF(C10=0,0,C9+1)","v":0},{"$f":"IF($I$4=1,INDIRECT($I$5&\"!B9\"),INDIRECT($I$5&\"!B29\"))","v":0},null,{"$f":"IF(C10=MAX($C$9:$C$12),MAX(C10:C13),ROUND(C10*$D$3*LOOKUP($D$3,$A$19:$B$26,$B$19:$B$26)/$F$4*$F$3,0))","v":0},{"$f":"E10-F9","v":-999999999},{"$f":"IF($I$3-(G9+F10)>0,F10,IF(($I$3-(G9+F10))<=0,$I$3-G9))","v":-999999999},null,{"$f":"IF($I$4=1,INDIRECT($I$5&\"!C9\"),INDIRECT($I$5&\"!C29\"))","v":0},{"$f":"ROUND(G10*I10,2)","v":0}]
[3,{"$f":"IF(C11=0,0,C10+1)","v":0},{"$f":"IF($I$4=1,INDIRECT($I$5&\"!B10\"),INDIRECT($I$5&\"!B30\"))","v":0},null,0,{"$f":"E11-F10-F9","v":0},{"$f":"IF($I$3-(G10+G9+F11)>0,F11,IF(($I$3-(G10+G9+F11))<=0,($I$3-(G10+G9))))","v":0},null,{"$f":"IF($I$4=1,INDIRECT($I$5&\"!C10\"),INDIRECT($I$5&\"!C30\"))","v":0},{"$f":"ROUND(G11*I11,2)","v":0}]
[4,{"$f":"IF(C12=0,0,C11+1)","v":0},{"$f":"IF($I$4=1,INDIRECT($I$5&\"!B11\"),INDIRECT($I$5&\"!B31\"))","v":0},null,0,{"$f":"C12","v":0},{"$f":"IF($I$3-(G9+G10+G11)>0,$I$3-(G9+G10+G11),0)","v":999999999},null,{"$f":"IF($I$4=1,INDIRECT($I$5&\"!C11\"),INDIRECT($I$5&\"!C31\"))","v":0},{"$f":"ROUND(G12*I12,2)","v":0}]
[]
[null,null,null,null,null,null,{"$f":"SUM(G9:G13)","v":0},null,null,{"$f":"SUM(J9:J13)","v":0}]
[]
[]
[]
[]
[1,1]
[2,1]
[3,1]
[4,1]
[5,1]
[6,1]
[7,1]
[8,1]

{"sheet":"FISSA DEPFOGNA_NDOM","index":4,"n_rows":42,"n_cols":10,"rows_kept":42,"cut":false,"hidden":true,"merged":[]}
["cdi_tariffa","descrizione tariffa","data variazione tariffaria"]
[10016777,"MULTIPLO QUOTA FISSA DEPUR/FOGNA NON DOMESTICO ATO MO","2023-01-01"]
[]
[]
[]
[]
["scaglione","consumo scaglione","importo per scaglione"]
[1,999999999,21.542262000000001]
[]
[]
[]
[]
[]
[]
[]
[]
[]
[]
[]
[]
["codi_tariffa","descrizione tariffa","data variazione tariffaria"]
[10018711,"MULTIPLO QUOTA FISSA DEPUR/FOGNA NON DOMESTICO ATO MN","2023-01-01"]
[]
[]
[]
[]
["scaglione","consumo scaglione","importo per scaglione"]
[1,999999999,18.619225]
[]
[]
[]
[]
[]
[]
[null,null,null,"numero componenti",null,"numero giorni"]
[null,null,null,1,null,365,null,"consumo",{"$f":"Dichiarazione!P33","v":{"$error":"#DIV/0!"}}]
[null,null,null,null,null,{"$f":"DATE(Dichiarazione!C6,12,31)-DATE(Dichiarazione!C6,1,1)+1","v":366},null,"ATO",{"$f":"IF(Dichiarazione!C11=\"MO\",1,2)","v":2}]
[null,null,null,null,null,null,null,"Tariffa"]
[]
[null,"Numero Unità",null,null,"Articolazione per numero componenti",null,null,null,"Tariffa €/mc"]
[]
[null,{"$f":"Dichiarazione!C26","v":0},null,null,null,999999999,{"$f":"IF(I36-F42>=0,F42,I36)","v":{"$error":"#DIV/0!"}},null,{"$f":"IF(I37=1,C8,C28)","v":18.619225},{"$f":"ROUND(B42*I42,2)","v":0}]

{"sheet":"FISSA ACQUEDOTTO_RES","index":5,"n_rows":42,"n_cols":10,"rows_kept":42,"cut":false,"hidden":true,"merged":[]}
["cdi_tariffa","descrizione tariffa","data variazione tariffaria"]
[10016768,"MULTIPLO TARIFFA NOLO DOMESTICO RESIDENTE ATO MO","2023-01-01"]
[]
[]
[]
[]
["scaglione","consumo scaglione","importo per scaglione"]
[1,999999999,6.4626780000000004]
[]
[]
[]
[]
[]
[]
[]
[]
[]
[]
[]
[]
["codi_tariffa","descrizione tariffa","data variazione tariffaria"]
[10017666,"MULTIPLO TARIFFA NOLO DOMESTICO RESIDENTE ATO MN","2023-01-01"]
[]
[]
[]
[]
["scaglione","consumo scaglione","importo per scaglione"]
[1,999999999,12.412817]
[]
[]
[]
[]
[]
[]
[null,null,null,"numero componenti",null,"numero giorni"]
[null,null,null,1,null,365,null,"consumo",{"$f":"Dichiarazione!N33","v":{"$error":"#DIV/0!"}}]
[null,null,null,null,null,{"$f":"DATE(Dichiarazione!C6,12,31)-DATE(Dichiarazione!C6,1,1)+1","v":366},null,"ATO",{"$f":"IF(Dichiarazione!C11=\"MO\",1,2)","v":2}]
[null,null,null,null,null,null,null,"Tariffa"]
[]
[null,"Numero Unità",null,null,"Articolazione per numero componenti",null,null,null,"Tariffa €/mc"]
[]
[null,{"$f":"SUM(Dichiarazione!C15:C22)","v":0},null,null,null,999999999,{"$f":"IF(I36-F42>=0,F42,I36)","v":{"$error":"#DIV/0!"}},null,{"$f":"IF(I37=1,C8,C28)","v":12.412817},{"$f":"ROUND(B42*I42,2)","v":0}]

{"sheet":"FISSA ACQUEDOTTO_NRES","index":6,"n_rows":42,"n_cols":10,"rows_kept":42,"cut":false,"hidden":true,"merged":[]}
["cdi_tariffa","descrizione tariffa","data variazione tariffaria"]
[10016769,"MULTIPLO TARIFFA NOLO DOMESTICO NON RESIDENTE ATO MO","2023-01-01"]
[]
[]
[]
[]
["scaglione","consumo scaglione","importo per scaglione"]
[1,999999999,18.321693]
[]
[]
[]
[]
[]
[]
[]
[]
[]
[]
[]
[]
["codi_tariffa","descrizione tariffa","data variazione tariffaria"]
[10017665,"MULTIPLO TARIFFA NOLO DOMESTICO NON RESIDENTE ATO MN","2023-01-01"]
[]
[]
[]
[]
["scaglione","consumo scaglione","importo per scaglione"]
[1,999999999,12.412817]
[]
[]
[]
[]
[]
[]
[null,null,null,"numero componenti",null,"numero giorni"]
[null,null,null,1,null,365,null,"consumo",{"$f":"Dichiarazione!O33","v":{"$error":"#DIV/0!"}}]
[null,null,null,null,null,{"$f":"DATE(Dichiarazione!C6,12,31)-DATE(Dichiarazione!C6,1,1)+1","v":366},null,"ATO",{"$f":"IF(Dichiarazione!C11=\"MO\",1,2)","v":2}]
[null,null,null,null,null,null,null,"Tariffa"]
[]
[null,"Numero Unità",null,null,"Articolazione per numero componenti",null,null,null,"Tariffa €/mc"]
[]
[null,{"$f":"Dichiarazione!C24+SUM(Dichiarazione!C28:C29)","v":0},null,null,null,999999999,{"$f":"IF(I36-F42>=0,F42,I36)","v":{"$error":"#DIV/0!"}},null,{"$f":"IF(I37=1,C8,C28)","v":12.412817},{"$f":"ROUND(B42*I42,2)","v":0}]

{"sheet":"FISSA ACQUEDOTTO_NDOM","index":7,"n_rows":42,"n_cols":10,"rows_kept":42,"cut":false,"hidden":true,"merged":[]}
["cdi_tariffa","descrizione tariffa","data variazione tariffaria"]
[10016770,"MULTIPLO TARIFFA NOLO NON DOMESTICO ATO MO","2023-01-01"]
[]
[]
[]
[]
["scaglione","consumo scaglione","importo per scaglione"]
[1,999999999,21.542261]
[]
[]
[]
[]
[]
[]
[]
[]
[]
[]
[]
[]
["codi_tariffa","descrizione tariffa","data variazione tariffaria"]
[10018705,"MULTIPLO TARIFFA NOLO NON DOMESTICO ATO MN","2023-01-01"]
[]
[]
[]
[]
["scaglione","consumo scaglione","importo per scaglione"]
[1,999999999,38.366888000000003]
[]
[]
[]
[]
[]
[]
[null,null,null,"numero componenti",null,"numero giorni"]
[null,null,null,1,null,365,null,"consumo",{"$f":"Dichiarazione!P33","v":{"$error":"#DIV/0!"}}]
[null,null,null,null,null,{"$f":"DATE(Dichiarazione!C6,12,31)-DATE(Dichiarazione!C6,1,1)+1","v":366},null,"ATO",{"$f":"IF(Dichiarazione!C11=\"MO\",1,2)","v":2}]
[null,null,null,null,null,null,null,"Tariffa"]
[]
[null,"Numero Unità",null,null,"Articolazione per numero componenti",null,null,null,"Tariffa €/mc"]
[]
[null,{"$f":"Dichiarazione!C26","v":0},null,null,null,999999999,{"$f":"IF(I36-F42>=0,F42,I36)","v":{"$error":"#DIV/0!"}},null,{"$f":"IF(I37=1,C8,C28)","v":38.366888000000003},{"$f":"ROUND(B42*I42,2)","v":0}]

{"sheet":"dati","index":8,"n_rows":20,"n_cols":9,"rows_kept":20,"cut":false,"hidden":true,"merged":[]}
["TIPOLOGIA UTENZA",null,null,"NUMERO COMPONENTI",null,null,"Non risultano unità immobiliari con          questo numero di componenti",null,1]
["DOMESTICO RESIDENTE",null,null,1,null,null,null,null,2]
["DOMESTICO NON RESIDENTE",null,null,2,null,null,null,null,3]
["NON DOMESTICO",null,null,3,null,null,null,null,4]
[null,null,null,4,null,null,null,null,5]
[null,null,null,5,null,null,null,null,6]
[null,null,null,6,null,null,null,null,7]
[null,null,null,7,null,null,null,null,8]
[null,null,null,"8 e oltre",null,null,null,null,9]
[null,null,null,null,null,null,null,null,10]
[null,null,null,null,null,null,null,null,11]
[null,null,null,null,null,null,null,null,12]
[null,null,null,null,null,null,null,null,13]
[null,null,null,null,null,null,null,null,14]
[null,null,null,null,null,null,null,null,15]
[null,null,null,null,null,null,null,null,16]
[null,null,null,null,null,null,null,null,17]
[null,null,null,null,null,null,null,null,18]
[null,null,null,null,null,null,null,null,19]
[null,null,null,null,null,null,null,null,20]

{"sheet":"DOM RES","index":9,"n_rows":29,"n_cols":10,"rows_kept":29,"cut":false,"hidden":true,"merged":[]}
[]
[null,null,null,"numero componenti",null,"numero giorni"]
[null,null,null,{"$f":"IF(I4=1,Dichiarazione!R23,Dichiarazione!N15+Dichiarazione!N16+Dichiarazione!N17+Dichiarazione!N18+Dichiarazione!N19+Dichiarazione!N20+Dichiarazione!N21+Dichiarazione!N22)","v":0},null,365,null,"consumo",{"$f":"Dichiarazione!N33","v":{"$error":"#DIV/0!"}}]
[null,null,null,null,null,{"$f":"DATE(Dichiarazione!C6,12,31)-DATE(Dichiarazione!C6,1,1)+1","v":366},null,"ATO",{"$f":"IF(Dichiarazione!C11=\"MO\",1,2)","v":2}]
[null,null,null,null,null,null,null,"Tariffa","TAR_ACQ_DOM_RES"]
[]
[null,"Articolazione base",null,null,"Articolazione per numero componenti",null,null,null,"Tariffa €/mc"]
[]
[1,0,{"$f":"IF($I$4=1,INDIRECT($I$5&\"!B8\"),INDIRECT($I$5&\"!B28\"))","v":55},null,{"$f":"IF(C9=MAX($C$9:$C$12),MAX(C9:C12),ROUND(C9*$D$3,0))","v":0},{"$f":"IF(C9=MAX($C$9:$C$12),MAX(C9:C12),ROUND(C9*$D$3,0))","v":0},{"$f":"IF($I$3-F9>0,F9,IF($I$3-F9<=0,$I$3))","v":{"$error":"#DIV/0!"}},null,{"$f":"IF($I$4=1,INDIRECT($I$5&\"!C8\"),INDIRECT($I$5&\"!C28\"))","v":0.68649400000000005},{"$f":"ROUND(G9*I9,2)","v":{"$error":"#DIV/0!"}}]
[2,{"$f":"IF(C10=0,0,C9+1)","v":56},{"$f":"IF($I$4=1,INDIRECT($I$5&\"!B9\"),INDIRECT($I$5&\"!B29\"))","v":180},null,{"$f":"IF(C10=MAX($C$9:$C$12),MAX(C10:C13),ROUND((C10*$D$3),0))","v":0},{"$f":"E10-F9","v":0},{"$f":"IF($I$3-(G9+F10)>0,F10,IF(($I$3-(G9+F10))<=0,$I$3-G9))","v":{"$error":"#DIV/0!"}},null,{"$f":"IF($I$4=1,INDIRECT($I$5&\"!C9\"),INDIRECT($I$5&\"!C29\"))","v":1.3729880000000001},{"$f":"ROUND(G10*I10,2)","v":{"$error":"#DIV/0!"}}]
[3,{"$f":"IF(C11=0,0,C10+1)","v":181},{"$f":"IF($I$4=1,INDIRECT($I$5&\"!B10\"),INDIRECT($I$5&\"!B30\"))","v":240},null,{"$f":"IF(C11=MAX($C$9:$C$12),MAX(C11:C14),ROUND((C11*$D$3),0))","v":0},{"$f":"E11-F10-F9","v":0},{"$f":"IF($I$3-(G10+G9+F11)>0,F11,IF(($I$3-(G10+G9+F11))<=0,($I$3-(G10+G9))))","v":{"$error":"#DIV/0!"}},null,{"$f":"IF($I$4=1,INDIRECT($I$5&\"!C10\"),INDIRECT($I$5&\"!C30\"))","v":1.5102880000000001},{"$f":"ROUND(G11*I11,2)","v":{"$error":"#DIV/0!"}}]
[4,{"$f":"IF(C12=0,0,C11+1)","v":241},{"$f":"IF($I$4=1,INDIRECT($I$5&\"!B11\"),INDIRECT($I$5&\"!B31\"))","v":999999999},null,{"$f":"IF(C12=MAX($C$9:$C$12),MAX(C12:C15),ROUND((C12*$D$3),0))","v":999999999},{"$f":"C12","v":999999999},{"$f":"IF($I$3-(G9+G10+G11)>0,$I$3-(G9+G10+G11),0)","v":{"$error":"#DIV/0!"}},null,{"$f":"IF($I$4=1,INDIRECT($I$5&\"!C11\"),INDIRECT($I$5&\"!C31\"))","v":1.7162360000000001},{"$f":"ROUND(G12*I12,2)","v":{"$error":"#DIV/0!"}}]
[]
[null,null,null,null,null,null,{"$f":"SUM(G9:G13)","v":{"$error":"#DIV/0!"}},null,null,{"$f":"SUM(J9:J13)","v":{"$error":"#DIV/0!"}}]
[]
[]
[]
[]
[1,1]
[2,1]
[3,1]
[4,1]
[5,1]
[6,1]
[7,1]
[8,1,null,null,null,{"$f":"IF(D26=MAX($C$9:$C$12),MAX(D26:D29),ROUND(D26*$D$3,0))","v":0}]
[9,1,null,null,null,{"$f":"IF(D27=MAX($C$9:$C$12),MAX(D27:D30),ROUND((D27*$D$3),0))","v":0}]
[10,1,null,null,null,{"$f":"IF(D28=MAX($C$9:$C$12),MAX(D28:D31),ROUND((D28*$D$3),0))","v":0}]
[null,null,null,null,null,{"$f":"IF(D29=MAX($C$9:$C$12),MAX(D29:D32),ROUND((D29*$D$3),0))","v":0}]

{"sheet":"DOM RES_singolo","index":10,"n_rows":26,"n_cols":10,"rows_kept":26,"cut":false,"hidden":true,"merged":[]}
[null,null,null,null,null,null,null,null,"DOMESTICO RESIDENTE"]
[null,null,null,"numero componenti",null,"numero giorni"]
[null,null,null,{"$f":"IF(I4=1,Dichiarazione!T23,1)","v":1},null,365,null,"consumo",{"$f":"IF(Dichiarazione!H11='DOM RES_singolo'!I1,Dichiarazione!G23,\"\")","v":""}]
[null,null,null,null,null,{"$f":"DATE(Dichiarazione!C6,12,31)-DATE(Dichiarazione!C6,1,1)+1","v":366},null,"ATO",{"$f":"IF(Dichiarazione!C11=\"MO\",1,2)","v":2}]
[null,null,null,null,null,null,null,"Tariffa","TAR_ACQ_DOM_RES"]
[]
[null,"Articolazione base",null,null,"Articolazione per numero componenti",null,null,null,"Tariffa €/mc"]
[]
[1,0,{"$f":"IF($I$4=1,INDIRECT($I$5&\"!B8\"),INDIRECT($I$5&\"!B28\"))","v":55},null,{"$f":"IF(C9=MAX($C$9:$C$12),MAX(C9:C12),ROUND(C9*$D$3*LOOKUP($D$3,$A$19:$B$26,$B$19:$B$26)/$F$4*$F$3,0))","v":55},{"$f":"E9","v":55},{"$f":"IF($I$3-F9>0,F9,IF($I$3-F9<=0,$I$3))","v":{"$error":"#VALUE!"}},null,{"$f":"IF($I$4=1,INDIRECT($I$5&\"!C8\"),INDIRECT($I$5&\"!C28\"))","v":0.68649400000000005},{"$f":"ROUND(G9*I9,2)","v":{"$error":"#VALUE!"}}]
[2,{"$f":"IF(C10=0,0,C9+1)","v":56},{"$f":"IF($I$4=1,INDIRECT($I$5&\"!B9\"),INDIRECT($I$5&\"!B29\"))","v":180},null,{"$f":"IF(C10=MAX($C$9:$C$12),MAX(C10:C13),ROUND(C10*$D$3*LOOKUP($D$3,$A$19:$B$26,$B$19:$B$26)/$F$4*$F$3,0))","v":180},{"$f":"E10-F9","v":125},{"$f":"IF($I$3-(G9+F10)>0,F10,IF(($I$3-(G9+F10))<=0,$I$3-G9))","v":{"$error":"#VALUE!"}},null,{"$f":"IF($I$4=1,INDIRECT($I$5&\"!C9\"),INDIRECT($I$5&\"!C29\"))","v":1.3729880000000001},{"$f":"ROUND(G10*I10,2)","v":{"$error":"#VALUE!"}}]
[3,{"$f":"IF(C11=0,0,C10+1)","v":181},{"$f":"IF($I$4=1,INDIRECT($I$5&\"!B10\"),INDIRECT($I$5&\"!B30\"))","v":240},null,239,{"$f":"E11-F10-F9","v":59},{"$f":"IF($I$3-(G10+G9+F11)>0,F11,IF(($I$3-(G10+G9+F11))<=0,($I$3-(G10+G9))))","v":{"$error":"#VALUE!"}},null,{"$f":"IF($I$4=1,INDIRECT($I$5&\"!C10\"),INDIRECT($I$5&\"!C30\"))","v":1.5102880000000001},{"$f":"ROUND(G11*I11,2)","v":{"$error":"#VALUE!"}}]
[4,{"$f":"IF(C12=0,0,C11+1)","v":241},{"$f":"IF($I$4=1,INDIRECT($I$5&\"!B11\"),INDIRECT($I$5&\"!B31\"))","v":999999999},null,999999999,{"$f":"C12","v":999999999},{"$f":"IF($I$3-(G9+G10+G11)>0,$I$3-(G9+G10+G11),0)","v":{"$error":"#VALUE!"}},null,{"$f":"IF($I$4=1,INDIRECT($I$5&\"!C11\"),INDIRECT($I$5&\"!C31\"))","v":1.7162360000000001},{"$f":"ROUND(G12*I12,2)","v":{"$error":"#VALUE!"}}]
[]
[null,null,null,null,null,null,{"$f":"SUM(G9:G13)","v":{"$error":"#VALUE!"}},null,null,{"$f":"SUM(J9:J13)","v":{"$error":"#VALUE!"}}]
[]
[]
[]
[]
[1,1]
[2,1]
[3,1]
[4,1]
[5,1]
[6,1]
[7,1]
[8,1]

{"sheet":"TAR_ACQ_DOM_RES","index":11,"n_rows":31,"n_cols":3,"rows_kept":31,"cut":false,"hidden":true,"merged":[]}
["cdi_tariffa","descrizione tariffa","data variazione tariffaria"]
[10016765,"MULTIPLO DOMESTICO RESIDENTE ATO MO","2023-01-01"]
[]
[]
[]
[]
["scaglione","consumo scaglione","importo per scaglione"]
[1,37,0.81860599999999994]
[2,55,1.320937]
[3,80,1.824346]
[4,999999999,2.5926119999999999]
[]
[]
[]
[]
[]
[]
[]
[]
[]
["cdi_tariffa","descrizione tariffa","data variazione tariffaria"]
[10017664,"MULTIPLO DOMESTICO RESIDENTE ATO MN","2023-01-01"]
[10017664,"MULTIPLO DOMESTICO RESIDENTE ATO MN","2023-01-01"]
[10017664,"MULTIPLO DOMESTICO RESIDENTE ATO MN","2023-01-01"]
[10017664,"MULTIPLO DOMESTICO RESIDENTE ATO MN","2023-01-01"]
[]
["scaglione","consumo scaglione","importo per scaglione"]
[1,55,0.68649400000000005]
[2,180,1.3729880000000001]
[3,240,1.5102880000000001]
[4,999999999,1.7162360000000001]

{"sheet":"DOM NON RES","index":12,"n_rows":31,"n_cols":10,"rows_kept":31,"cut":false,"hidden":true,"merged":[]}
[]
[null,null,null,"numero componenti",null,"numero giorni"]
[null,null,null,1,null,365,null,"consumo",{"$f":"Dichiarazione!O33","v":{"$error":"#DIV/0!"}}]
[null,null,null,null,null,{"$f":"DATE(Dichiarazione!C6,12,31)-DATE(Dichiarazione!C6,1,1)+1","v":366},null,"ATO",{"$f":"IF(Dichiarazione!C11=\"MO\",1,2)","v":2}]
[null,null,null,null,null,null,null,"Tariffa","TAR_ACQ_DOM_NON_RES"]
[]
[null,"Articolazione base",null,null,"Articolazione per numero componenti",null,null,null,"Tariffa €/mc"]
[]
[1,0,{"$f":"IF($I$4=1,INDIRECT($I$5&\"!B8\"),INDIRECT($I$5&\"!B28\"))","v":180},null,{"$f":"IF(E18<>999999999,E18*(SUM(Dichiarazione!O24,Dichiarazione!O28,Dichiarazione!O29)),'DOM NON RES'!E18)","v":0},{"$f":"E9","v":0},{"$f":"IF($I$3-F9>0,F9,IF($I$3-F9<=0,$I$3))","v":{"$error":"#DIV/0!"}},null,{"$f":"IF($I$4=1,INDIRECT($I$5&\"!C8\"),INDIRECT($I$5&\"!C28\"))","v":1.3729880000000001},{"$f":"ROUND(H19*I9,2)","v":{"$error":"#DIV/0!"}}]
[2,{"$f":"IF(C10=0,0,C9+1)","v":181},{"$f":"IF($I$4=1,INDIRECT($I$5&\"!B9\"),INDIRECT($I$5&\"!B29\"))","v":240},null,{"$f":"IF(E19<>999999999,E19*(SUM(Dichiarazione!O25,Dichiarazione!O29,Dichiarazione!O30)),'DOM NON RES'!E19)","v":0},{"$f":"IF(AND(E10<>999999999,E10<>0),E10-F9,E10)","v":0},{"$f":"IF($I$3-(G9+F10)>0,F10,IF(($I$3-(G9+F10))<=0,$I$3-G9))","v":{"$error":"#DIV/0!"}},null,{"$f":"IF($I$4=1,INDIRECT($I$5&\"!C9\"),INDIRECT($I$5&\"!C29\"))","v":1.5102880000000001},{"$f":"ROUND(H20*I10,2)","v":{"$error":"#DIV/0!"}}]
[3,{"$f":"IF(C11=0,0,C10+1)","v":241},{"$f":"IF($I$4=1,INDIRECT($I$5&\"!B10\"),INDIRECT($I$5&\"!B30\"))","v":999999999},null,{"$f":"IF(E20<>999999999,E20*(SUM(Dichiarazione!O26,Dichiarazione!O30,Dichiarazione!O31)),'DOM NON RES'!E20)","v":999999999},{"$f":"IF(AND(E11<>999999999,E11<>0),E11-(F9+F10),E11)","v":999999999},{"$f":"IF($I$3-(G10+G9+F11)>0,F11,IF(($I$3-(G10+G9+F11))<=0,($I$3-(G10+G9))))","v":{"$error":"#DIV/0!"}},null,{"$f":"IF($I$4=1,INDIRECT($I$5&\"!C10\"),INDIRECT($I$5&\"!C30\"))","v":1.7162360000000001},{"$f":"ROUND(H21*I11,2)","v":{"$error":"#DIV/0!"}}]
[4,{"$f":"IF(C12=0,0,C11+1)","v":0},{"$f":"IF($I$4=1,INDIRECT($I$5&\"!B11\"),INDIRECT($I$5&\"!B31\"))","v":0},null,{"$f":"IF(E21<>999999999,E21*(SUM(Dichiarazione!O27,Dichiarazione!O31,Dichiarazione!O32)),'DOM NON RES'!E21)","v":0},{"$f":"IF(AND(E12<>999999999,E12<>0),E12-(F9+F10+F11),E12)","v":0},{"$f":"IF($I$3-(G9+G10+G11)>0,$I$3-(G9+G10+G11),0)","v":{"$error":"#DIV/0!"}},null,{"$f":"IF($I$4=1,INDIRECT($I$5&\"!C11\"),INDIRECT($I$5&\"!C31\"))","v":0},{"$f":"ROUND(H22*I12,2)","v":{"$error":"#DIV/0!"}}]
[]
[null,null,null,null,null,null,{"$f":"SUM(G9:G13)","v":{"$error":"#DIV/0!"}},null,null,{"$f":"SUM(J9:J13)","v":{"$error":"#DIV/0!"}}]
[]
[]
[]
[null,null,null,null,{"$f":"IF(C9=MAX($C$9:$C$12),MAX(C9:C12),ROUND(C9*$D$3,0))","v":180}]
[1,1,null,null,{"$f":"IF(C10=MAX($C$9:$C$12),MAX(C10:C13),ROUND((C10*$D$3),0))","v":240},null,null,{"$f":"IF($I$3-E9>0,E9,IF($I$3-E9<=0,$I$3))","v":{"$error":"#DIV/0!"}}]
[2,1,null,null,{"$f":"IF(C11=MAX($C$9:$C$12),MAX(C11:C14),ROUND((C11*$D$3),0))","v":999999999},999999999,null,{"$f":"G10","v":{"$error":"#DIV/0!"}}]
[3,1,null,null,{"$f":"IF(C12=MAX($C$9:$C$12),MAX(C12:C15),ROUND(C12*$D$3*LOOKUP($D$3,$A$19:$B$26,$B$19:$B$26)/$F$4*$F$3,0))","v":0},null,null,{"$f":"G11","v":{"$error":"#DIV/0!"}}]
[4,1,null,null,null,null,null,{"$f":"G12","v":{"$error":"#DIV/0!"}}]
[5,1]
[6,1]
[7,1]
[8,1]
[]
[null,null,null,null,null,999999999]
[]
[]
[null,null,null,null,null,"SE(C9=MAX($C$9:$C$12);MAX(C9:C12);ARROTONDA(C9*$D$3*CERCA($D$3;$A$19:$B$26;$B$19:$B$26)/$F$4*$F$3;0))"]

{"sheet":"TAR_ACQ_DOM_NON_RES","index":13,"n_rows":30,"n_cols":3,"rows_kept":30,"cut":false,"hidden":true,"merged":[]}
["cdi_tariffa","descrizione tariffa","data variazione tariffaria"]
[10016766,"MULTIPLO DOMESTICO NON RESIDENTE ATO MO","2023-01-01"]
[10016766,"MULTIPLO DOMESTICO NON RESIDENTE ATO MO","2023-01-01"]
[]
[]
[]
["scaglione","consumo scaglione","importo per scaglione"]
[1,156,1.320937]
[2,999999999,1.824346]
[]
[]
[]
[]
[]
[]
[]
[]
[]
[]
[]
["cdi_tariffa","descrizione tariffa","data variazione tariffaria"]
[10017663,"MULTIPLO DOMESTICO NON RESIDENTE ATO MN","2023-01-01"]
[10017663,"MULTIPLO DOMESTICO NON RESIDENTE ATO MN","2023-01-01"]
[10017663,"MULTIPLO DOMESTICO NON RESIDENTE ATO MN","2023-01-01"]
[]
[]
["scaglione","consumo scaglione","importo per scaglione"]
[1,180,1.3729880000000001]
[2,240,1.5102880000000001]
[3,999999999,1.7162360000000001]

{"sheet":"TAR_ACQ_NON_DOM","index":14,"n_rows":29,"n_cols":3,"rows_kept":29,"cut":false,"hidden":true,"merged":[]}
["cdi_tariffa","descrizione tariffa","data variazione tariffaria"]
[10016767,"MULTIPLO CONSUMO NON DOMESTICO ATO MO","2023-01-01"]
[10016767,"MULTIPLO CONSUMO NON DOMESTICO ATO MO","2023-01-01"]
[10016767,"MULTIPLO CONSUMO NON DOMESTICO ATO MO","2023-01-01"]
[]
[]
["scaglione","consumo scaglione","importo per scaglione"]
[1,156,1.320937]
[2,12000,1.824346]
[3,999999999,1.320937]
[]
[]
[]
[]
[]
[]
[]
[]
[]
[]
["codi_tariffa","descrizione tariffa","data variazione tariffaria"]
[10017662,"MULTIPLO CONSUMO NON DOMESTICO ATO MN","2023-01-01"]
[10017662,"MULTIPLO CONSUMO NON DOMESTICO ATO MN","2023-01-01"]
[]
[]
[]
["scaglione","consumo scaglione","importo per scaglione"]
[1,180,1.3729880000000001]
[2,999999999,1.757425]

{"sheet":"FOG","index":15,"n_rows":26,"n_cols":10,"rows_kept":26,"cut":false,"hidden":true,"merged":[]}
[]
[null,null,null,"numero componenti",null,"numero giorni"]
[null,null,null,1,null,365,null,"consumo",{"$f":"Dichiarazione!C12","v":0}]
[null,null,null,null,null,{"$f":"DATE(Dichiarazione!C6,12,31)-DATE(Dichiarazione!C6,1,1)+1","v":366},null,"ATO",{"$f":"IF(Dichiarazione!C11=\"MO\",1,2)","v":2}]
[null,null,null,null,null,null,null,"Tariffa","TAR_FOG"]
[]
[null,"Articolazione base",null,null,"Articolazione per numero componenti",null,null,null,"Tariffa €/mc"]
[]
[1,0,{"$f":"IF($I$4=1,INDIRECT($I$5&\"!B8\"),INDIRECT($I$5&\"!B28\"))","v":999999999},null,{"$f":"IF(C9=MAX($C$9:$C$12),MAX(C9:C12),ROUND(C9*$D$3*LOOKUP($D$3,$A$19:$B$26,$B$19:$B$26)/$F$4*$F$3,0))","v":999999999},{"$f":"E9","v":999999999},{"$f":"IF($I$3-F9>0,F9,IF($I$3-F9<=0,$I$3))","v":0},null,{"$f":"IF($I$4=1,INDIRECT($I$5&\"!C8\"),INDIRECT($I$5&\"!C28\"))","v":0.28267700000000001},{"$f":"ROUND(G9*I9,2)","v":0}]
[2,{"$f":"IF(C10=0,0,C9+1)","v":0},{"$f":"IF($I$4=1,INDIRECT($I$5&\"!B9\"),INDIRECT($I$5&\"!B29\"))","v":0},null,{"$f":"IF(C10=MAX($C$9:$C$12),MAX(C10:C13),ROUND(C10*$D$3*LOOKUP($D$3,$A$19:$B$26,$B$19:$B$26)/$F$4*$F$3,0))","v":0},{"$f":"E10-F9","v":-999999999},{"$f":"IF($I$3-(G9+F10)>0,F10,IF(($I$3-(G9+F10))<=0,$I$3-G9))","v":-999999999},null,{"$f":"IF($I$4=1,INDIRECT($I$5&\"!C9\"),INDIRECT($I$5&\"!C29\"))","v":0},{"$f":"ROUND(G10*I10,2)","v":0}]
[3,{"$f":"IF(C11=0,0,C10+1)","v":0},{"$f":"IF($I$4=1,INDIRECT($I$5&\"!B10\"),INDIRECT($I$5&\"!B30\"))","v":0},null,0,{"$f":"E11-F10-F9","v":0},{"$f":"IF($I$3-(G10+G9+F11)>0,F11,IF(($I$3-(G10+G9+F11))<=0,($I$3-(G10+G9))))","v":0},null,{"$f":"IF($I$4=1,INDIRECT($I$5&\"!C10\"),INDIRECT($I$5&\"!C30\"))","v":0},{"$f":"ROUND(G11*I11,2)","v":0}]
[4,{"$f":"IF(C12=0,0,C11+1)","v":0},{"$f":"IF($I$4=1,INDIRECT($I$5&\"!B11\"),INDIRECT($I$5&\"!B31\"))","v":0},null,0,{"$f":"C12","v":0},{"$f":"IF($I$3-(G9+G10+G11)>0,$I$3-(G9+G10+G11),0)","v":999999999},null,{"$f":"IF($I$4=1,INDIRECT($I$5&\"!C11\"),INDIRECT($I$5&\"!C31\"))","v":0},{"$f":"ROUND(G12*I12,2)","v":0}]
[]
[null,null,null,null,null,null,{"$f":"SUM(G9:G13)","v":0},null,null,{"$f":"SUM(J9:J13)","v":0}]
[]
[]
[]
[]
[1,1]
[2,1]
[3,1]
[4,1]
[5,1]
[6,1]
[7,1]
[8,1]

{"sheet":"TAR_FOG","index":16,"n_rows":28,"n_cols":3,"rows_kept":28,"cut":false,"hidden":true,"merged":[]}
["cdi_tariffa","descrizione tariffa","data variazione tariffaria"]
[4,"QUOTA FOGNATURA GRUPPO 1","2023-01-01"]
[]
[]
[]
[]
["scaglione","consumo scaglione","importo per scaglione"]
[1,999999999,0.27332499999999998]
[]
[]
[]
[]
[]
[]
[]
[]
[]
[]
[]
[]
["codi_tariffa","descrizione tariffa","data variazione tariffaria"]
[10000650,"QUOTA FOGNATURA COMUNI MN","2023-01-01"]
[]
[]
[]
[]
["scaglione","consumo scaglione","importo per scaglione"]
[1,999999999,0.28267700000000001]

{"sheet":"DOM NON RES_singolo","index":17,"n_rows":26,"n_cols":10,"rows_kept":26,"cut":false,"hidden":true,"merged":[]}
[null,null,null,null,null,null,null,null,"DOMESTICO NON RESIDENTE"]
[null,null,null,"numero componenti",null,"numero giorni"]
[null,null,null,1,null,365,null,"consumo",{"$f":"IF(Dichiarazione!H11='DOM NON RES_singolo'!I1,Dichiarazione!G23,\"\")","v":""}]
[null,null,null,null,null,{"$f":"DATE(Dichiarazione!C6,12,31)-DATE(Dichiarazione!C6,1,1)+1","v":366},null,"ATO",{"$f":"IF(Dichiarazione!C11=\"MO\",1,2)","v":2}]
[null,null,null,null,null,null,null,"Tariffa","TAR_ACQ_DOM_NON_RES"]
[]
[null,"Articolazione base",null,null,"Articolazione per numero componenti",null,null,null,"Tariffa €/mc"]
[]
[1,0,{"$f":"IF($I$4=1,INDIRECT($I$5&\"!B8\"),INDIRECT($I$5&\"!B28\"))","v":180},null,{"$f":"IF(C9=MAX($C$9:$C$12),MAX(C9:C12),ROUND(C9*$D$3*LOOKUP($D$3,$A$19:$B$26,$B$19:$B$26)/$F$4*$F$3,0))","v":180},{"$f":"E9","v":180},{"$f":"IF($I$3-F9>0,F9,IF($I$3-F9<=0,$I$3))","v":{"$error":"#VALUE!"}},null,{"$f":"IF($I$4=1,INDIRECT($I$5&\"!C8\"),INDIRECT($I$5&\"!C28\"))","v":1.3729880000000001},{"$f":"ROUND(G9*I9,2)","v":{"$error":"#VALUE!"}}]
[2,{"$f":"IF(C10=0,0,C9+1)","v":181},{"$f":"IF($I$4=1,INDIRECT($I$5&\"!B9\"),INDIRECT($I$5&\"!B29\"))","v":240},null,{"$f":"IF(C10=MAX($C$9:$C$12),MAX(C10:C13),ROUND(C10*$D$3*LOOKUP($D$3,$A$19:$B$26,$B$19:$B$26)/$F$4*$F$3,0))","v":239},{"$f":"E10-F9","v":59},{"$f":"IF($I$3-(G9+F10)>0,F10,IF(($I$3-(G9+F10))<=0,$I$3-G9))","v":{"$error":"#VALUE!"}},null,{"$f":"IF($I$4=1,INDIRECT($I$5&\"!C9\"),INDIRECT($I$5&\"!C29\"))","v":1.5102880000000001},{"$f":"ROUND(G10*I10,2)","v":{"$error":"#VALUE!"}}]
[3,{"$f":"IF(C11=0,0,C10+1)","v":241},{"$f":"IF($I$4=1,INDIRECT($I$5&\"!B10\"),INDIRECT($I$5&\"!B30\"))","v":999999999},null,999999999,{"$f":"E11-F10-F9","v":999999760},{"$f":"IF($I$3-(G10+G9+F11)>0,F11,IF(($I$3-(G10+G9+F11))<=0,($I$3-(G10+G9))))","v":{"$error":"#VALUE!"}},null,{"$f":"IF($I$4=1,INDIRECT($I$5&\"!C10\"),INDIRECT($I$5&\"!C30\"))","v":1.7162360000000001},{"$f":"ROUND(G11*I11,2)","v":{"$error":"#VALUE!"}}]
[4,{"$f":"IF(C12=0,0,C11+1)","v":0},{"$f":"IF($I$4=1,INDIRECT($I$5&\"!B11\"),INDIRECT($I$5&\"!B31\"))","v":0},null,0,{"$f":"C12","v":0},{"$f":"IF($I$3-(G9+G10+G11)>0,$I$3-(G9+G10+G11),0)","v":{"$error":"#VALUE!"}},null,{"$f":"IF($I$4=1,INDIRECT($I$5&\"!C11\"),INDIRECT($I$5&\"!C31\"))","v":0},{"$f":"ROUND(G12*I12,2)","v":{"$error":"#VALUE!"}}]
[]
[null,null,null,null,null,null,{"$f":"SUM(G9:G13)","v":{"$error":"#VALUE!"}},null,null,{"$f":"SUM(J9:J13)","v":{"$error":"#VALUE!"}}]
[]
[]
[]
[]
[1,1]
[2,1]
[3,1]
[4,1]
[5,1]
[6,1]
[7,1]
[8,1]

{"sheet":"NON DOM","index":18,"n_rows":26,"n_cols":10,"rows_kept":26,"cut":false,"hidden":true,"merged":[]}
[]
[null,null,null,"numero componenti",null,"numero giorni"]
[null,null,null,1,null,365,null,"consumo",{"$f":"Dichiarazione!P33","v":{"$error":"#DIV/0!"}}]
[null,null,null,null,null,{"$f":"DATE(Dichiarazione!C6,12,31)-DATE(Dichiarazione!C6,1,1)+1","v":366},null,"ATO",{"$f":"IF(Dichiarazione!C11=\"MO\",1,2)","v":2}]
[null,null,null,null,null,null,null,"Tariffa","TAR_ACQ_NON_DOM"]
[]
[null,"Articolazione base",null,null,"Articolazione per numero componenti",null,null,null,"Tariffa €/mc"]
[]
[1,0,{"$f":"IF($I$4=1,INDIRECT($I$5&\"!B8\"),INDIRECT($I$5&\"!B28\"))","v":180},null,{"$f":"IF(C9=MAX($C$9:$C$12),MAX(C9:C12),ROUND(C9*$D$3*LOOKUP($D$3,$A$19:$B$26,$B$19:$B$26)/$F$4*$F$3,0))","v":180},{"$f":"IF(E9<>999999999,E9*Dichiarazione!P26,'NON DOM'!E9)","v":0},{"$f":"IF($I$3-F9>0,F9,IF($I$3-F9<=0,$I$3))","v":{"$error":"#DIV/0!"}},null,{"$f":"IF($I$4=1,INDIRECT($I$5&\"!C8\"),INDIRECT($I$5&\"!C28\"))","v":1.3729880000000001},{"$f":"ROUND(G9*I9,2)","v":{"$error":"#DIV/0!"}}]
[2,{"$f":"IF(C10=0,0,C9+1)","v":181},{"$f":"IF($I$4=1,INDIRECT($I$5&\"!B9\"),INDIRECT($I$5&\"!B29\"))","v":999999999},null,{"$f":"IF(C10=MAX($C$9:$C$12),MAX(C10:C13),ROUND(C10*$D$3*LOOKUP($D$3,$A$19:$B$26,$B$19:$B$26)/$F$4*$F$3,0))","v":999999999},{"$f":"IF(E10<>999999999,E10*Dichiarazione!P26,'NON DOM'!E10)","v":999999999},{"$f":"IF($I$3-(G9+F10)>0,F10,IF(($I$3-(G9+F10))<=0,$I$3-G9))","v":{"$error":"#DIV/0!"}},null,{"$f":"IF($I$4=1,INDIRECT($I$5&\"!C9\"),INDIRECT($I$5&\"!C29\"))","v":1.757425},{"$f":"ROUND(G10*I10,2)","v":{"$error":"#DIV/0!"}}]
[3,{"$f":"IF(C11=0,0,C10+1)","v":0},{"$f":"IF($I$4=1,INDIRECT($I$5&\"!B10\"),INDIRECT($I$5&\"!B30\"))","v":0},null,0,{"$f":"IF(E11<>999999999,E11*Dichiarazione!P26,'NON DOM'!E11)","v":0},{"$f":"IF($I$3-(G10+G9+F11)>0,F11,IF(($I$3-(G10+G9+F11))<=0,($I$3-(G10+G9))))","v":{"$error":"#DIV/0!"}},null,{"$f":"IF($I$4=1,INDIRECT($I$5&\"!C10\"),INDIRECT($I$5&\"!C30\"))","v":0},{"$f":"ROUND(G11*I11,2)","v":{"$error":"#DIV/0!"}}]
[4,{"$f":"IF(C12=0,0,C11+1)","v":0},{"$f":"IF($I$4=1,INDIRECT($I$5&\"!B11\"),INDIRECT($I$5&\"!B31\"))","v":0},null,0,{"$f":"IF(E12<>999999999,E12*Dichiarazione!P26,'NON DOM'!E12)","v":0},{"$f":"IF($I$3-(G9+G10+G11)>0,$I$3-(G9+G10+G11),0)","v":{"$error":"#DIV/0!"}},null,{"$f":"IF($I$4=1,INDIRECT($I$5&\"!C11\"),INDIRECT($I$5&\"!C31\"))","v":0},{"$f":"ROUND(G12*I12,2)","v":{"$error":"#DIV/0!"}}]
[]
[null,null,null,null,null,null,{"$f":"SUM(G9:G13)","v":{"$error":"#DIV/0!"}},null,null,{"$f":"SUM(J9:J13)","v":{"$error":"#DIV/0!"}}]
[]
[]
[]
[]
[1,1]
[2,1]
[3,1]
[4,1]
[5,1,null,null,null,999999999]
[6,1]
[7,1]
[8,1]

{"sheet":"NON DOM_singolo","index":19,"n_rows":26,"n_cols":10,"rows_kept":26,"cut":false,"hidden":true,"merged":[]}
[null,null,null,null,null,null,null,null,"NON DOMESTICO"]
[null,null,null,"numero componenti",null,"numero giorni"]
[null,null,null,1,null,365,null,"consumo",{"$f":"IF(Dichiarazione!H11='NON DOM_singolo'!I1,Dichiarazione!G23,\"\")","v":""}]
[null,null,null,null,null,{"$f":"DATE(Dichiarazione!C6,12,31)-DATE(Dichiarazione!C6,1,1)+1","v":366},null,"ATO",{"$f":"IF(Dichiarazione!C11=\"MO\",1,2)","v":2}]
[null,null,null,null,null,null,null,"Tariffa","TAR_ACQ_NON_DOM"]
[]
[null,"Articolazione base",null,null,"Articolazione per numero componenti",null,null,null,"Tariffa €/mc"]
[]
[1,0,{"$f":"IF($I$4=1,INDIRECT($I$5&\"!B8\"),INDIRECT($I$5&\"!B28\"))","v":180},null,{"$f":"IF(C9=MAX($C$9:$C$12),MAX(C9:C12),ROUND(C9*$D$3*LOOKUP($D$3,$A$19:$B$26,$B$19:$B$26)/$F$4*$F$3,0))","v":180},{"$f":"E9","v":180},{"$f":"IF($I$3-F9>0,F9,IF($I$3-F9<=0,$I$3))","v":{"$error":"#VALUE!"}},null,{"$f":"IF($I$4=1,INDIRECT($I$5&\"!C8\"),INDIRECT($I$5&\"!C28\"))","v":1.3729880000000001},{"$f":"ROUND(G9*I9,2)","v":{"$error":"#VALUE!"}}]
[2,{"$f":"IF(C10=0,0,C9+1)","v":181},{"$f":"IF($I$4=1,INDIRECT($I$5&\"!B9\"),INDIRECT($I$5&\"!B29\"))","v":999999999},null,{"$f":"IF(C10=MAX($C$9:$C$12),MAX(C10:C13),ROUND(C10*$D$3*LOOKUP($D$3,$A$19:$B$26,$B$19:$B$26)/$F$4*$F$3,0))","v":999999999},{"$f":"E10-F9","v":999999819},{"$f":"IF($I$3-(G9+F10)>0,F10,IF(($I$3-(G9+F10))<=0,$I$3-G9))","v":{"$error":"#VALUE!"}},null,{"$f":"IF($I$4=1,INDIRECT($I$5&\"!C9\"),INDIRECT($I$5&\"!C29\"))","v":1.757425},{"$f":"ROUND(G10*I10,2)","v":{"$error":"#VALUE!"}}]
[3,{"$f":"IF(C11=0,0,C10+1)","v":0},{"$f":"IF($I$4=1,INDIRECT($I$5&\"!B10\"),INDIRECT($I$5&\"!B30\"))","v":0},null,0,{"$f":"E11-F10-F9","v":-999999999},{"$f":"IF($I$3-(G10+G9+F11)>0,F11,IF(($I$3-(G10+G9+F11))<=0,($I$3-(G10+G9))))","v":{"$error":"#VALUE!"}},null,{"$f":"IF($I$4=1,INDIRECT($I$5&\"!C10\"),INDIRECT($I$5&\"!C30\"))","v":0},{"$f":"ROUND(G11*I11,2)","v":{"$error":"#VALUE!"}}]
[4,{"$f":"IF(C12=0,0,C11+1)","v":0},{"$f":"IF($I$4=1,INDIRECT($I$5&\"!B11\"),INDIRECT($I$5&\"!B31\"))","v":0},null,0,{"$f":"C12","v":0},{"$f":"IF($I$3-(G9+G10+G11)>0,$I$3-(G9+G10+G11),0)","v":{"$error":"#VALUE!"}},null,{"$f":"IF($I$4=1,INDIRECT($I$5&\"!C11\"),INDIRECT($I$5&\"!C31\"))","v":0},{"$f":"ROUND(G12*I12,2)","v":{"$error":"#VALUE!"}}]
[]
[null,null,null,null,null,null,{"$f":"SUM(G9:G13)","v":{"$error":"#VALUE!"}},null,null,{"$f":"SUM(J9:J13)","v":{"$error":"#VALUE!"}}]
[]
[]
[]
[]
[1,1]
[2,1]
[3,1]
[4,1]
[5,1]
[6,1]
[7,1]
[8,1]

{"sheet":"FOG_singolo","index":20,"n_rows":26,"n_cols":10,"rows_kept":26,"cut":false,"hidden":true,"merged":[]}
[]
[null,null,null,"numero componenti",null,"numero giorni"]
[null,null,null,1,null,365,null,"consumo",{"$f":"Dichiarazione!G23","v":{"$error":"#N/A"}}]
[null,null,null,null,null,{"$f":"DATE(Dichiarazione!C6,12,31)-DATE(Dichiarazione!C6,1,1)+1","v":366},null,"ATO",{"$f":"IF(Dichiarazione!C11=\"MO\",1,2)","v":2}]
[null,null,null,null,null,null,null,"Tariffa","TAR_FOG"]
[]
[null,"Articolazione base",null,null,"Articolazione per numero componenti",null,null,null,"Tariffa €/mc"]
[]
[1,0,{"$f":"IF($I$4=1,INDIRECT($I$5&\"!B8\"),INDIRECT($I$5&\"!B28\"))","v":999999999},null,{"$f":"IF(C9=MAX($C$9:$C$12),MAX(C9:C12),ROUND(C9*$D$3*LOOKUP($D$3,$A$19:$B$26,$B$19:$B$26)/$F$4*$F$3,0))","v":999999999},{"$f":"E9","v":999999999},{"$f":"IF($I$3-F9>0,F9,IF($I$3-F9<=0,$I$3))","v":{"$error":"#N/A"}},null,{"$f":"IF($I$4=1,INDIRECT($I$5&\"!C8\"),INDIRECT($I$5&\"!C28\"))","v":0.28267700000000001},{"$f":"ROUND(G9*I9,2)","v":{"$error":"#N/A"}}]
[2,{"$f":"IF(C10=0,0,C9+1)","v":0},{"$f":"IF($I$4=1,INDIRECT($I$5&\"!B9\"),INDIRECT($I$5&\"!B29\"))","v":0},null,{"$f":"IF(C10=MAX($C$9:$C$12),MAX(C10:C13),ROUND(C10*$D$3*LOOKUP($D$3,$A$19:$B$26,$B$19:$B$26)/$F$4*$F$3,0))","v":0},{"$f":"E10-F9","v":-999999999},{"$f":"IF($I$3-(G9+F10)>0,F10,IF(($I$3-(G9+F10))<=0,$I$3-G9))","v":{"$error":"#N/A"}},null,{"$f":"IF($I$4=1,INDIRECT($I$5&\"!C9\"),INDIRECT($I$5&\"!C29\"))","v":0},{"$f":"ROUND(G10*I10,2)","v":{"$error":"#N/A"}}]
[3,{"$f":"IF(C11=0,0,C10+1)","v":0},{"$f":"IF($I$4=1,INDIRECT($I$5&\"!B10\"),INDIRECT($I$5&\"!B30\"))","v":0},null,0,{"$f":"E11-F10-F9","v":0},{"$f":"IF($I$3-(G10+G9+F11)>0,F11,IF(($I$3-(G10+G9+F11))<=0,($I$3-(G10+G9))))","v":{"$error":"#N/A"}},null,{"$f":"IF($I$4=1,INDIRECT($I$5&\"!C10\"),INDIRECT($I$5&\"!C30\"))","v":0},{"$f":"ROUND(G11*I11,2)","v":{"$error":"#N/A"}}]
[4,{"$f":"IF(C12=0,0,C11+1)","v":0},{"$f":"IF($I$4=1,INDIRECT($I$5&\"!B11\"),INDIRECT($I$5&\"!B31\"))","v":0},null,0,{"$f":"C12","v":0},{"$f":"IF($I$3-(G9+G10+G11)>0,$I$3-(G9+G10+G11),0)","v":{"$error":"#N/A"}},null,{"$f":"IF($I$4=1,INDIRECT($I$5&\"!C11\"),INDIRECT($I$5&\"!C31\"))","v":0},{"$f":"ROUND(G12*I12,2)","v":{"$error":"#N/A"}}]
[]
[null,null,null,null,null,null,{"$f":"SUM(G9:G13)","v":{"$error":"#N/A"}},null,null,{"$f":"SUM(J9:J13)","v":{"$error":"#N/A"}}]
[]
[]
[]
[]
[1,1]
[2,1]
[3,1]
[4,1]
[5,1]
[6,1]
[7,1]
[8,1]

{"sheet":"DEP_singolo","index":21,"n_rows":26,"n_cols":10,"rows_kept":26,"cut":false,"hidden":true,"merged":[]}
[]
[null,null,null,"numero componenti",null,"numero giorni"]
[null,null,null,1,null,365,null,"consumo",{"$f":"Dichiarazione!G23","v":{"$error":"#N/A"}}]
[null,null,null,null,null,{"$f":"DATE(Dichiarazione!C6,12,31)-DATE(Dichiarazione!C6,1,1)+1","v":366},null,"ATO",{"$f":"IF(Dichiarazione!C11=\"MO\",1,2)","v":2}]
[null,null,null,null,null,null,null,"Tariffa","TAR_DEP"]
[]
[null,"Articolazione base",null,null,"Articolazione per numero componenti",null,null,null,"Tariffa €/mc"]
[]
[1,0,{"$f":"IF($I$4=1,INDIRECT($I$5&\"!B8\"),INDIRECT($I$5&\"!B28\"))","v":999999999},null,{"$f":"IF(C9=MAX($C$9:$C$12),MAX(C9:C12),ROUND(C9*$D$3*LOOKUP($D$3,$A$19:$B$26,$B$19:$B$26)/$F$4*$F$3,0))","v":999999999},{"$f":"E9","v":999999999},{"$f":"IF($I$3-F9>0,F9,IF($I$3-F9<=0,$I$3))","v":{"$error":"#N/A"}},null,{"$f":"IF($I$4=1,INDIRECT($I$5&\"!C8\"),INDIRECT($I$5&\"!C28\"))","v":0.75222599999999995},{"$f":"ROUND(G9*I9,2)","v":{"$error":"#N/A"}}]
[2,{"$f":"IF(C10=0,0,C9+1)","v":0},{"$f":"IF($I$4=1,INDIRECT($I$5&\"!B9\"),INDIRECT($I$5&\"!B29\"))","v":0},null,{"$f":"IF(C10=MAX($C$9:$C$12),MAX(C10:C13),ROUND(C10*$D$3*LOOKUP($D$3,$A$19:$B$26,$B$19:$B$26)/$F$4*$F$3,0))","v":0},{"$f":"E10-F9","v":-999999999},{"$f":"IF($I$3-(G9+F10)>0,F10,IF(($I$3-(G9+F10))<=0,$I$3-G9))","v":{"$error":"#N/A"}},null,{"$f":"IF($I$4=1,INDIRECT($I$5&\"!C9\"),INDIRECT($I$5&\"!C29\"))","v":0},{"$f":"ROUND(G10*I10,2)","v":{"$error":"#N/A"}}]
[3,{"$f":"IF(C11=0,0,C10+1)","v":0},{"$f":"IF($I$4=1,INDIRECT($I$5&\"!B10\"),INDIRECT($I$5&\"!B30\"))","v":0},null,0,{"$f":"E11-F10-F9","v":0},{"$f":"IF($I$3-(G10+G9+F11)>0,F11,IF(($I$3-(G10+G9+F11))<=0,($I$3-(G10+G9))))","v":{"$error":"#N/A"}},null,{"$f":"IF($I$4=1,INDIRECT($I$5&\"!C10\"),INDIRECT($I$5&\"!C30\"))","v":0},{"$f":"ROUND(G11*I11,2)","v":{"$error":"#N/A"}}]
[4,{"$f":"IF(C12=0,0,C11+1)","v":0},{"$f":"IF($I$4=1,INDIRECT($I$5&\"!B11\"),INDIRECT($I$5&\"!B31\"))","v":0},null,0,{"$f":"C12","v":0},{"$f":"IF($I$3-(G9+G10+G11)>0,$I$3-(G9+G10+G11),0)","v":{"$error":"#N/A"}},null,{"$f":"IF($I$4=1,INDIRECT($I$5&\"!C11\"),INDIRECT($I$5&\"!C31\"))","v":0},{"$f":"ROUND(G12*I12,2)","v":{"$error":"#N/A"}}]
[]
[null,null,null,null,null,null,{"$f":"SUM(G9:G13)","v":{"$error":"#N/A"}},null,null,{"$f":"SUM(J9:J13)","v":{"$error":"#N/A"}}]
[]
[]
[]
[]
[1,1]
[2,1]
[3,1]
[4,1]
[5,1]
[6,1]
[7,1]
[8,1]

{"sheet":"TAR_DEP","index":22,"n_rows":28,"n_cols":3,"rows_kept":28,"cut":false,"hidden":true,"merged":[]}
["cdi_tariffa","descrizione tariffa","data variazione tariffaria"]
[6,"QUOTA DEPURAZIONE","2023-01-01"]
[]
[]
[]
[]
["scaglione","consumo scaglione","importo per scaglione"]
[1,999999999,0.69489800000000002]
[]
[]
[]
[]
[]
[]
[]
[]
[]
[]
[]
[]
["codi_tariffa","descrizione tariffa","data variazione tariffaria"]
[10000652,"QUOTA DEPURAZIONE COMUNI MN","2023-01-01"]
[]
[]
[]
[]
["scaglione","consumo scaglione","importo per scaglione"]
[1,999999999,0.75222599999999995]